BEGIN:VCALENDAR
VERSION:2.0
PRODID:-//wp-events-plugin.com//7.2.3.1//EN
BEGIN:VEVENT
UID:36@baptysci.waw.pl
DTSTART:20200502T160000Z
DTEND:20200502T180000Z
DTSTAMP:20210121T160954Z
URL:https://baptysci.waw.pl/wydarzenia/warszawska-szkola-biblijna-sobota-2
 021-01-23-godz-17-00/
SUMMARY:Warszawska Szkoła Biblijna\, sobota 2021.01.23\, godz. 17.00
DESCRIPTION:Warszawska Szkoła Biblijna sobota 2021.01.23\, godz. 17.00\nPr
 owadzący: Andrzej Seweryn\n\nTransmisja odbędzie się za pośrednictwem:
 \nFacebook: https://www.facebook.com/KosciolChrzecijanBaptystowWarszawa\nY
 ouTube: https://www.youtube.com/channel/UCwYFVoONbOXLxxHjUXGvA9g
CATEGORIES:Szkoła Biblijna
END:VEVENT
END:VCALENDAR