BEGIN:VCALENDAR
VERSION:2.0
PRODID:-//wp-events-plugin.com//7.2.3.1//EN
BEGIN:VEVENT
UID:19@baptysci.waw.pl
DTSTART:20200530T170000Z
DTEND:20200530T183000Z
DTSTAMP:20200528T132615Z
URL:https://baptysci.waw.pl/wydarzenia/warszawska-szkola-biblijna-sobota-2
 020-05-30-godz-18-00/
SUMMARY:Warszawska Szkoła Biblijna\, sobota 2020.05.30 godz. 18.00
DESCRIPTION:Proszę o rezerwację miejsc.
ATTACH;FMTTYPE=image/jpeg:https://baptysci.waw.pl/wp-content/uploads/Slide
 r_zborowa-szkoła-biblijna-2.jpg
CATEGORIES:Szkoła Biblijna
END:VEVENT
END:VCALENDAR