BEGIN:VCALENDAR
VERSION:2.0
PRODID:-//wp-events-plugin.com//7.2.3.1//EN
BEGIN:VEVENT
UID:16@baptysci.waw.pl
DTSTART:20200527T170000Z
DTEND:20200527T180000Z
DTSTAMP:20200524T205416Z
URL:https://baptysci.waw.pl/wydarzenia/nabozenstwo-sroda-2020-05-27-godz-1
 8-00/
SUMMARY:Nabożeństwo środa 2020.05.27 godz. 18.00
DESCRIPTION:Proszę o rezerwację miejsc.
ATTACH;FMTTYPE=image/jpeg:https://baptysci.waw.pl/wp-content/uploads/Slide
 r_zborowa-szkoła-biblijna-2.jpg
CATEGORIES:Nabożeństwo
END:VEVENT
END:VCALENDAR