BEGIN:VCALENDAR
VERSION:2.0
PRODID:-//wp-events-plugin.com//7.2.3.1//EN
BEGIN:VEVENT
UID:2@baptysci.waw.pl
DTSTART:20200429T170000Z
DTEND:20200429T180000Z
DTSTAMP:20200428T150054Z
URL:https://baptysci.waw.pl/wydarzenia/nabozenstwo-sroda-2020-04-29/
SUMMARY:Nabożeństwo środa 2020.04.29 godz.18.00
DESCRIPTION:Proszę o rezerwację miejsc.
CATEGORIES:Nabożeństwo
END:VEVENT
END:VCALENDAR