BEGIN:VCALENDAR
VERSION:2.0
PRODID:-//wp-events-plugin.com//7.2.3.1//EN
BEGIN:VEVENT
UID:30@baptysci.waw.pl
DTSTART:20210101T100000Z
DTEND:20210101T113000Z
DTSTAMP:20201220T091404Z
URL:https://baptysci.waw.pl/wydarzenia/nabozenstwo-noworoczne-2021-01-01-g
 odz-11-00/
SUMMARY:Nabożeństwo noworoczne 2021.01.01 godz. 11.00
DESCRIPTION:Proszę o rezerwację miejsc.
CATEGORIES:Nabożeństwo
END:VEVENT
END:VCALENDAR