BEGIN:VCALENDAR
VERSION:2.0
PRODID:-//wp-events-plugin.com//7.2.3.1//EN
BEGIN:VEVENT
UID:32@baptysci.waw.pl
DTSTART:20210110T090000Z
DTEND:20210110T103000Z
DTSTAMP:20201220T092327Z
URL:https://baptysci.waw.pl/wydarzenia/nabozenstwo-niedziela-2021-01-10-go
 dz-10-00/
SUMMARY:Nabożeństwo niedziela 2021.01.10 godz. 10.00
DESCRIPTION:Proszę o rezerwację miejsc.
CATEGORIES:Nabożeństwo
END:VEVENT
END:VCALENDAR