BEGIN:VCALENDAR
VERSION:2.0
PRODID:-//wp-events-plugin.com//7.2.3.1//EN
BEGIN:VEVENT
UID:28@baptysci.waw.pl
DTSTART:20201227T090000Z
DTEND:20201227T103000Z
DTSTAMP:20201128T143220Z
URL:https://baptysci.waw.pl/wydarzenia/nabozenstwo-niedziela-2020-12-27-go
 dz-10-00-2/
SUMMARY:Nabożeństwo niedziela 2020.12.27 godz. 10.00
DESCRIPTION:Proszę o rezerwację miejsc.
CATEGORIES:Nabożeństwo
END:VEVENT
END:VCALENDAR