BEGIN:VCALENDAR
VERSION:2.0
PRODID:-//wp-events-plugin.com//7.2.3.1//EN
BEGIN:VEVENT
UID:26@baptysci.waw.pl
DTSTART:20201220T090000Z
DTEND:20201220T103000Z
DTSTAMP:20201128T142844Z
URL:https://baptysci.waw.pl/wydarzenia/nabozenstwo-niedziela-2020-12-20-go
 dz-10-00/
SUMMARY:Nabożeństwo niedziela 2020.12.20 godz. 10.00
DESCRIPTION:Proszę o rezerwację miejsc.
CATEGORIES:Nabożeństwo
END:VEVENT
END:VCALENDAR