BEGIN:VCALENDAR
VERSION:2.0
PRODID:-//wp-events-plugin.com//7.2.3.1//EN
BEGIN:VEVENT
UID:14@baptysci.waw.pl
DTSTART:20200524T090000Z
DTEND:20200524T100000Z
DTSTAMP:20200517T223235Z
URL:https://baptysci.waw.pl/wydarzenia/nabozenstwo-niedziela-2020-05-24-go
 dz-10-00/
SUMMARY:Nabożeństwo niedziela 2020.05.24 godz. 10.00
DESCRIPTION:Proszę o rezerwację miejsc.
ATTACH;FMTTYPE=image/jpeg:https://baptysci.waw.pl/wp-content/uploads/Slide
 r_zborowa-szkoła-biblijna-2.jpg
CATEGORIES:Nabożeństwo
END:VEVENT
END:VCALENDAR