BEGIN:VCALENDAR
VERSION:2.0
PRODID:-//wp-events-plugin.com//7.2.3.1//EN
BEGIN:VEVENT
UID:8@baptysci.waw.pl
DTSTART:20200510T110000Z
DTEND:20200510T120000Z
DTSTAMP:20200508T093259Z
URL:https://baptysci.waw.pl/wydarzenia/nabozenstwo-niedziela-2020-05-10-go
 dz-12-00/
SUMMARY:Nabożeństwo niedziela 2020.05.10 godz. 12.00
DESCRIPTION:Proszę o rezerwację miejsc.
ATTACH;FMTTYPE=image/jpeg:https://baptysci.waw.pl/wp-content/uploads/Slide
 r_zborowa-szkoła-biblijna-2.jpg
CATEGORIES:Nabożeństwo
END:VEVENT
END:VCALENDAR